BEGIN:VCALENDAR
VERSION:2.0
PRODID:-//childbereavement.org//NONSGML kigkonsult.se iCalcreator 2.30.10//
CALSCALE:GREGORIAN
METHOD:PUBLISH
UID:8937b110-a165-4573-a653-b37b7ed9e2c4
X-WR-CALDESC:
X-WR-RELCALID:57a2f7d115a846a1e5b5bbc786180479
X-WR-TIMEZONE:America/New_York
BEGIN:VTIMEZONE
TZID:America/New_York
BEGIN:STANDARD
TZNAME:EST
DTSTART:20221106T020000
TZOFFSETFROM:-0400
TZOFFSETTO:-0500
RDATE:20231105T020000
END:STANDARD
BEGIN:DAYLIGHT
TZNAME:EDT
DTSTART:20230312T020000
TZOFFSETFROM:-0500
TZOFFSETTO:-0400
RDATE:20240310T020000
END:DAYLIGHT
END:VTIMEZONE
BEGIN:VEVENT
UID:7c16dbf0-9b94-4b79-8fae-cb625c1017b2
DTSTAMP:20260419T210826Z
DESCRIPTION:
DTSTART;TZID=America/New_York:20230412T190000
DTEND;TZID=America/New_York:20230412T210000
LOCATION:https://childbereavement.org/en-espanol/
SUMMARY:Grupo de Español
END:VEVENT
END:VCALENDAR
