BEGIN:VCALENDAR
VERSION:2.0
PRODID:-//childbereavement.org//NONSGML kigkonsult.se iCalcreator 2.30.10//
CALSCALE:GREGORIAN
METHOD:PUBLISH
UID:f95a4aa4-cbeb-49a8-a617-7d502b1cf66b
X-WR-CALDESC:
X-WR-RELCALID:fd157be630e6b42184b86830f2fee644
X-WR-TIMEZONE:America/New_York
BEGIN:VTIMEZONE
TZID:America/New_York
BEGIN:STANDARD
TZNAME:EST
DTSTART:20221106T020000
TZOFFSETFROM:-0400
TZOFFSETTO:-0500
RDATE:20231105T020000
END:STANDARD
BEGIN:DAYLIGHT
TZNAME:EDT
DTSTART:20230312T020000
TZOFFSETFROM:-0500
TZOFFSETTO:-0400
RDATE:20240310T020000
END:DAYLIGHT
END:VTIMEZONE
BEGIN:VEVENT
UID:3b622c83-dce4-4363-9375-c8bf01374b40
DTSTAMP:20260419T211108Z
DESCRIPTION:
DTSTART;TZID=America/New_York:20230412T170000
DTEND;TZID=America/New_York:20230412T180000
LOCATION:https://childbereavement.org/en-espanol/
SUMMARY:Orientación  (En Español)
END:VEVENT
END:VCALENDAR
