BEGIN:VCALENDAR
VERSION:2.0
PRODID:-//childbereavement.org//NONSGML kigkonsult.se iCalcreator 2.30.10//
CALSCALE:GREGORIAN
METHOD:PUBLISH
UID:1c7dc82b-ab63-4f4b-869a-349d4dbea13f
X-WR-CALDESC:
X-WR-RELCALID:5b093bbd9207a840df990cf733366097
X-WR-TIMEZONE:America/New_York
BEGIN:VTIMEZONE
TZID:America/New_York
BEGIN:STANDARD
TZNAME:EST
DTSTART:20221106T020000
TZOFFSETFROM:-0400
TZOFFSETTO:-0500
RDATE:20231105T020000
END:STANDARD
BEGIN:DAYLIGHT
TZNAME:EDT
DTSTART:20230312T020000
TZOFFSETFROM:-0500
TZOFFSETTO:-0400
RDATE:20240310T020000
END:DAYLIGHT
END:VTIMEZONE
BEGIN:VEVENT
UID:3da98acc-943a-43f6-a69c-f39d80654daa
DTSTAMP:20260419T211026Z
DESCRIPTION:
DTSTART;TZID=America/New_York:20230411T190000
DTEND;TZID=America/New_York:20230411T203000
LOCATION:https://childbereavement.org/support-groups/grief-support.html
SUMMARY:High School Grief Support Groups
END:VEVENT
END:VCALENDAR
