BEGIN:VCALENDAR
VERSION:2.0
PRODID:-//childbereavement.org//NONSGML kigkonsult.se iCalcreator 2.30.10//
CALSCALE:GREGORIAN
METHOD:PUBLISH
UID:977cfe88-7915-40a6-9fe6-8de8c6ef679b
X-WR-CALDESC:
X-WR-RELCALID:d4aff23a80d68590533e93f335eb3ae7
X-WR-TIMEZONE:America/New_York
BEGIN:VTIMEZONE
TZID:America/New_York
BEGIN:STANDARD
TZNAME:EST
DTSTART:20221106T020000
TZOFFSETFROM:-0400
TZOFFSETTO:-0500
RDATE:20231105T020000
END:STANDARD
BEGIN:DAYLIGHT
TZNAME:EDT
DTSTART:20230312T020000
TZOFFSETFROM:-0500
TZOFFSETTO:-0400
RDATE:20240310T020000
END:DAYLIGHT
END:VTIMEZONE
BEGIN:VEVENT
UID:aa2578ec-70af-44da-83be-de4c0341f777
DTSTAMP:20260419T210620Z
DESCRIPTION:
DTSTART;TZID=America/New_York:20230410T170000
DTEND;TZID=America/New_York:20230410T180000
LOCATION:https://childbereavement.org/support-groups/grief-support.html
SUMMARY:Orientation for Grief Support Groups\, English
END:VEVENT
END:VCALENDAR
