BEGIN:VCALENDAR
VERSION:2.0
PRODID:-//childbereavement.org//NONSGML kigkonsult.se iCalcreator 2.30.10//
CALSCALE:GREGORIAN
METHOD:PUBLISH
UID:101d1387-0592-423f-a47e-841dc11fdeb5
X-WR-CALDESC:
X-WR-RELCALID:10b34adffb56923ff859351ad8b8f8a7
X-WR-TIMEZONE:America/New_York
BEGIN:VTIMEZONE
TZID:America/New_York
BEGIN:STANDARD
TZNAME:EST
DTSTART:20221106T020000
TZOFFSETFROM:-0400
TZOFFSETTO:-0500
RDATE:20231105T020000
END:STANDARD
BEGIN:DAYLIGHT
TZNAME:EDT
DTSTART:20230312T020000
TZOFFSETFROM:-0500
TZOFFSETTO:-0400
RDATE:20240310T020000
END:DAYLIGHT
END:VTIMEZONE
BEGIN:VEVENT
UID:3869d03b-eba0-4462-bcf4-d0215bbd2070
DTSTAMP:20260419T210223Z
DESCRIPTION:
DTSTART;TZID=America/New_York:20230403T190000
DTEND;TZID=America/New_York:20230403T203000
LOCATION:https://childbereavement.org/support-groups/grief-support.html
SUMMARY:Adult English Grief Support Group
END:VEVENT
END:VCALENDAR
