BEGIN:VCALENDAR
VERSION:2.0
PRODID:-//childbereavement.org//NONSGML kigkonsult.se iCalcreator 2.30.10//
CALSCALE:GREGORIAN
METHOD:PUBLISH
UID:5bc37336-0274-41fe-a571-882ee41ad29a
X-WR-CALDESC:
X-WR-RELCALID:da7c2be0f97fdbcfa0be3fad64c2a8b0
X-WR-TIMEZONE:America/New_York
BEGIN:VTIMEZONE
TZID:America/New_York
BEGIN:STANDARD
TZNAME:EST
DTSTART:20221106T020000
TZOFFSETFROM:-0400
TZOFFSETTO:-0500
RDATE:20231105T020000
END:STANDARD
BEGIN:DAYLIGHT
TZNAME:EDT
DTSTART:20230312T020000
TZOFFSETFROM:-0500
TZOFFSETTO:-0400
RDATE:20240310T020000
END:DAYLIGHT
END:VTIMEZONE
BEGIN:VEVENT
UID:ec0d8f3d-fba1-4250-ab84-c77a659850dd
DTSTAMP:20260419T222449Z
DESCRIPTION:
DTSTART;TZID=America/New_York:20230328T190000
DTEND;TZID=America/New_York:20230328T203000
LOCATION:https://childbereavement.org/support-groups/grief-support.html
SUMMARY:High School Grief Support Groups
END:VEVENT
END:VCALENDAR
