BEGIN:VCALENDAR
VERSION:2.0
PRODID:-//childbereavement.org//NONSGML kigkonsult.se iCalcreator 2.30.10//
CALSCALE:GREGORIAN
METHOD:PUBLISH
UID:5e17a546-8ecb-4515-a68c-60131ee99e91
X-WR-CALDESC:
X-WR-RELCALID:ddb839f417307f27179e4ebf52e04692
X-WR-TIMEZONE:America/New_York
BEGIN:VTIMEZONE
TZID:America/New_York
BEGIN:STANDARD
TZNAME:EST
DTSTART:20221106T020000
TZOFFSETFROM:-0400
TZOFFSETTO:-0500
RDATE:20231105T020000
END:STANDARD
BEGIN:DAYLIGHT
TZNAME:EDT
DTSTART:20230312T020000
TZOFFSETFROM:-0500
TZOFFSETTO:-0400
RDATE:20240310T020000
END:DAYLIGHT
END:VTIMEZONE
BEGIN:VEVENT
UID:fefc9633-fcf7-40b4-8ad1-cb2d76a52b18
DTSTAMP:20260419T222351Z
DESCRIPTION:
DTSTART;TZID=America/New_York:20230327T190000
DTEND;TZID=America/New_York:20230327T203000
LOCATION:https://childbereavement.org/support-groups/grief-support.html
SUMMARY:Middle School Grief Support Group
END:VEVENT
END:VCALENDAR
