BEGIN:VCALENDAR
VERSION:2.0
PRODID:-//childbereavement.org//NONSGML kigkonsult.se iCalcreator 2.30.10//
CALSCALE:GREGORIAN
METHOD:PUBLISH
UID:4062c9da-1db0-4976-8f18-9b1107ed777a
X-WR-CALDESC:
X-WR-RELCALID:3e61ca9c87b0adfaf47fcc8bee0e0fc5
X-WR-TIMEZONE:America/New_York
BEGIN:VTIMEZONE
TZID:America/New_York
BEGIN:STANDARD
TZNAME:EST
DTSTART:20221106T020000
TZOFFSETFROM:-0400
TZOFFSETTO:-0500
RDATE:20231105T020000
END:STANDARD
BEGIN:DAYLIGHT
TZNAME:EDT
DTSTART:20230312T020000
TZOFFSETFROM:-0500
TZOFFSETTO:-0400
RDATE:20240310T020000
END:DAYLIGHT
END:VTIMEZONE
BEGIN:VEVENT
UID:d9e6784c-a80f-4c9e-95d6-5208fe45b707
DTSTAMP:20260419T222244Z
DESCRIPTION:
DTSTART;TZID=America/New_York:20230327T173000
DTEND;TZID=America/New_York:20230327T183000
LOCATION:https://childbereavement.org/support-groups/grief-support.html
SUMMARY:Elementary Grief Support Group
END:VEVENT
END:VCALENDAR
