BEGIN:VCALENDAR
VERSION:2.0
PRODID:-//childbereavement.org//NONSGML kigkonsult.se iCalcreator 2.30.10//
CALSCALE:GREGORIAN
METHOD:PUBLISH
UID:716f1015-156a-464a-9696-2380619d6f0b
X-WR-CALDESC:
X-WR-RELCALID:fe6c30491ca9e203fd7a5e73b1df1bd0
X-WR-TIMEZONE:America/New_York
BEGIN:VTIMEZONE
TZID:America/New_York
BEGIN:STANDARD
TZNAME:EST
DTSTART:20221106T020000
TZOFFSETFROM:-0400
TZOFFSETTO:-0500
RDATE:20231105T020000
END:STANDARD
BEGIN:DAYLIGHT
TZNAME:EDT
DTSTART:20230312T020000
TZOFFSETFROM:-0500
TZOFFSETTO:-0400
RDATE:20240310T020000
END:DAYLIGHT
END:VTIMEZONE
BEGIN:VEVENT
UID:b92c7cb3-6aa2-439a-b494-b1f9be32ada5
DTSTAMP:20260419T222326Z
DESCRIPTION:
DTSTART;TZID=America/New_York:20230320T000000
DTEND;TZID=America/New_York:20230322T082900
LOCATION:
SUMMARY:No Groups Meeting
END:VEVENT
END:VCALENDAR
