BEGIN:VCALENDAR
VERSION:2.0
PRODID:-//childbereavement.org//NONSGML kigkonsult.se iCalcreator 2.30.10//
CALSCALE:GREGORIAN
METHOD:PUBLISH
UID:c601e693-7709-4640-9704-c1094b842934
X-WR-CALDESC:
X-WR-RELCALID:a6ff564c8408a347aa1225888fef8d82
X-WR-TIMEZONE:America/New_York
BEGIN:VTIMEZONE
TZID:America/New_York
BEGIN:STANDARD
TZNAME:EST
DTSTART:20221106T020000
TZOFFSETFROM:-0400
TZOFFSETTO:-0500
RDATE:20231105T020000
END:STANDARD
BEGIN:DAYLIGHT
TZNAME:EDT
DTSTART:20230312T020000
TZOFFSETFROM:-0500
TZOFFSETTO:-0400
RDATE:20240310T020000
END:DAYLIGHT
END:VTIMEZONE
BEGIN:VEVENT
UID:7537b127-4140-4b2a-9cb3-a6ccfaa010ac
DTSTAMP:20260419T223130Z
DESCRIPTION:
DTSTART;TZID=America/New_York:20230315T190000
DTEND;TZID=America/New_York:20230315T203000
LOCATION:https://childbereavement.org/en-espanol/
SUMMARY:Grupo de Perdida Perinatal Y de Infancia Español
END:VEVENT
END:VCALENDAR
