BEGIN:VCALENDAR
VERSION:2.0
PRODID:-//childbereavement.org//NONSGML kigkonsult.se iCalcreator 2.30.10//
CALSCALE:GREGORIAN
METHOD:PUBLISH
UID:a80fe13d-68ce-4710-b7b0-a2016fa072bc
X-WR-CALDESC:
X-WR-RELCALID:1f1eab2ff73947375418bea0f46faa55
X-WR-TIMEZONE:America/New_York
BEGIN:VTIMEZONE
TZID:America/New_York
BEGIN:STANDARD
TZNAME:EST
DTSTART:20221106T020000
TZOFFSETFROM:-0400
TZOFFSETTO:-0500
RDATE:20231105T020000
END:STANDARD
BEGIN:DAYLIGHT
TZNAME:EDT
DTSTART:20230312T020000
TZOFFSETFROM:-0500
TZOFFSETTO:-0400
RDATE:20240310T020000
END:DAYLIGHT
END:VTIMEZONE
BEGIN:VEVENT
UID:af6964bd-2aac-4061-be92-40594ab2234f
DTSTAMP:20260419T222449Z
DESCRIPTION:
DTSTART;TZID=America/New_York:20230314T190000
DTEND;TZID=America/New_York:20230314T203000
LOCATION:https://childbereavement.org/support-groups/grief-support.html
SUMMARY:High School Grief Support Groups
END:VEVENT
END:VCALENDAR
