BEGIN:VCALENDAR
VERSION:2.0
PRODID:-//childbereavement.org//NONSGML kigkonsult.se iCalcreator 2.30.10//
CALSCALE:GREGORIAN
METHOD:PUBLISH
UID:d0aeb387-3d5d-44f9-8bda-c91b3f601b66
X-WR-CALDESC:
X-WR-RELCALID:b435455a21cc64e21f24c0ff7fbb975f
X-WR-TIMEZONE:America/New_York
BEGIN:VTIMEZONE
TZID:America/New_York
BEGIN:STANDARD
TZNAME:EST
DTSTART:20221106T020000
TZOFFSETFROM:-0400
TZOFFSETTO:-0500
RDATE:20231105T020000
END:STANDARD
BEGIN:DAYLIGHT
TZNAME:EDT
DTSTART:20220313T020000
TZOFFSETFROM:-0500
TZOFFSETTO:-0400
RDATE:20230312T020000
RDATE:20240310T020000
END:DAYLIGHT
END:VTIMEZONE
BEGIN:VEVENT
UID:686cc707-8a03-4e02-9bc2-028ed581ac26
DTSTAMP:20260419T222556Z
DESCRIPTION:
DTSTART;TZID=America/New_York:20230313T170000
DTEND;TZID=America/New_York:20230313T180000
LOCATION:https://childbereavement.org/support-groups/grief-support.html
SUMMARY:Orientation for Grief Support Groups\, English
END:VEVENT
END:VCALENDAR
