BEGIN:VCALENDAR
VERSION:2.0
PRODID:-//childbereavement.org//NONSGML kigkonsult.se iCalcreator 2.30.10//
CALSCALE:GREGORIAN
METHOD:PUBLISH
UID:50ee2e6a-192c-429a-8074-360e64243cd0
X-WR-CALDESC:
X-WR-RELCALID:87526ce88b21742f47066ac3d2711eef
X-WR-TIMEZONE:America/New_York
BEGIN:VTIMEZONE
TZID:America/New_York
BEGIN:STANDARD
TZNAME:EST
DTSTART:20221106T020000
TZOFFSETFROM:-0400
TZOFFSETTO:-0500
RDATE:20231105T020000
END:STANDARD
BEGIN:DAYLIGHT
TZNAME:EDT
DTSTART:20220313T020000
TZOFFSETFROM:-0500
TZOFFSETTO:-0400
RDATE:20230312T020000
RDATE:20240310T020000
END:DAYLIGHT
END:VTIMEZONE
BEGIN:VEVENT
UID:fc608836-2312-4117-a35c-498582bc7643
DTSTAMP:20260419T222531Z
DESCRIPTION:
DTSTART;TZID=America/New_York:20230308T190000
DTEND;TZID=America/New_York:20230308T203000
LOCATION:https://childbereavement.org/support-groups/grief-support.html
SUMMARY:Young Adult Grief Support Group
END:VEVENT
END:VCALENDAR
