BEGIN:VCALENDAR
VERSION:2.0
PRODID:-//childbereavement.org//NONSGML kigkonsult.se iCalcreator 2.30.10//
CALSCALE:GREGORIAN
METHOD:PUBLISH
UID:31222679-3ea0-4356-a964-aee0955eece0
X-WR-CALDESC:Dedicated perinatal and infant loss groups are for child loss 
 before birth or during infancy\; available to mothers\, fathers\, couples 
 in English on Tuesdays and Spanish on Wednesdays
X-WR-RELCALID:8db8f4010974b296a2fe58bb77d99153
X-WR-TIMEZONE:America/New_York
BEGIN:VTIMEZONE
TZID:America/New_York
BEGIN:STANDARD
TZNAME:EST
DTSTART:20221106T020000
TZOFFSETFROM:-0400
TZOFFSETTO:-0500
RDATE:20231105T020000
END:STANDARD
BEGIN:DAYLIGHT
TZNAME:EDT
DTSTART:20220313T020000
TZOFFSETFROM:-0500
TZOFFSETTO:-0400
RDATE:20230312T020000
RDATE:20240310T020000
END:DAYLIGHT
END:VTIMEZONE
BEGIN:VEVENT
UID:d5b079cb-5aec-474c-b15f-f40469c1e57e
DTSTAMP:20260419T222505Z
DESCRIPTION:Dedicated perinatal and infant loss groups are for child loss b
 efore birth or during infancy\; available to mothers\, fathers\, couples i
 n English on Tuesdays and Spanish on Wednesdays
DTSTART;TZID=America/New_York:20230307T190000
DTEND;TZID=America/New_York:20230307T203000
LOCATION:https://childbereavement.org/support-groups/grief-support.html
SUMMARY:Perinatal & Infant Loss Grief Support Group
END:VEVENT
END:VCALENDAR
