BEGIN:VCALENDAR
VERSION:2.0
PRODID:-//childbereavement.org//NONSGML kigkonsult.se iCalcreator 2.30.10//
CALSCALE:GREGORIAN
METHOD:PUBLISH
UID:f8bc15f8-a359-46f6-a432-7044ff00aedf
X-WR-CALDESC:
X-WR-RELCALID:7fe8d8f26150d996afb82c64f46e540e
X-WR-TIMEZONE:America/New_York
BEGIN:VTIMEZONE
TZID:America/New_York
BEGIN:STANDARD
TZNAME:EST
DTSTART:20221106T020000
TZOFFSETFROM:-0400
TZOFFSETTO:-0500
RDATE:20231105T020000
END:STANDARD
BEGIN:DAYLIGHT
TZNAME:EDT
DTSTART:20220313T020000
TZOFFSETFROM:-0500
TZOFFSETTO:-0400
RDATE:20230312T020000
RDATE:20240310T020000
END:DAYLIGHT
END:VTIMEZONE
BEGIN:VEVENT
UID:aec62ad9-5eb0-4e68-9394-66d7c85fe1cb
DTSTAMP:20260419T222653Z
DESCRIPTION:
DTSTART;TZID=America/New_York:20230301T190000
DTEND;TZID=America/New_York:20230301T210000
LOCATION:https://childbereavement.org/en-espanol/
SUMMARY:Grupo de Español
END:VEVENT
END:VCALENDAR
