BEGIN:VCALENDAR
VERSION:2.0
PRODID:-//childbereavement.org//NONSGML kigkonsult.se iCalcreator 2.30.10//
CALSCALE:GREGORIAN
METHOD:PUBLISH
UID:2ca9c2d9-7b65-4afa-8458-ea6474f72d51
X-WR-CALDESC:Register on Zoom for free: \nhttps://us02web.zoom.us/meeting/r
 egister/tZwsf-mhrT8oG9IuFTgvfY3XiCZnvtJgcWpl
X-WR-RELCALID:7eb3d27bc6f4c0b67ca714024eae7ebb
X-WR-TIMEZONE:America/New_York
BEGIN:VTIMEZONE
TZID:America/New_York
BEGIN:STANDARD
TZNAME:EST
DTSTART:20211107T020000
TZOFFSETFROM:-0400
TZOFFSETTO:-0500
RDATE:20221106T020000
RDATE:20231105T020000
END:STANDARD
BEGIN:DAYLIGHT
TZNAME:EDT
DTSTART:20220313T020000
TZOFFSETFROM:-0500
TZOFFSETTO:-0400
RDATE:20230312T020000
END:DAYLIGHT
END:VTIMEZONE
BEGIN:VEVENT
UID:0974707c-aedc-4c26-bb73-6590ad7b7d1f
DTSTAMP:20260422T134403Z
DESCRIPTION:Register on Zoom for free: \nhttps://us02web.zoom.us/meeting/re
 gister/tZwsf-mhrT8oG9IuFTgvfY3XiCZnvtJgcWpl
DTSTART;TZID=America/New_York:20220531T190000
DTEND;TZID=America/New_York:20220531T200000
LOCATION:https://us02web.zoom.us/meeting/register/tZwsf-mhrT8oG9IuFTgvfY3Xi
 CZnvtJgcWpl
SUMMARY:Dancing with CBC
END:VEVENT
END:VCALENDAR
