BEGIN:VCALENDAR
VERSION:2.0
PRODID:-//childbereavement.org//NONSGML kigkonsult.se iCalcreator 2.30.10//
CALSCALE:GREGORIAN
METHOD:PUBLISH
UID:e3167340-9bcd-48c4-8bb6-9df2cdd3f300
X-WR-CALDESC:
X-WR-RELCALID:0c39bf421ed60fe174e6db451e8c5150
X-WR-TIMEZONE:America/New_York
BEGIN:VTIMEZONE
TZID:America/New_York
BEGIN:STANDARD
TZNAME:EST
DTSTART:20201101T020000
TZOFFSETFROM:-0400
TZOFFSETTO:-0500
RDATE:20211107T020000
RDATE:20221106T020000
END:STANDARD
BEGIN:DAYLIGHT
TZNAME:EDT
DTSTART:20210314T020000
TZOFFSETFROM:-0500
TZOFFSETTO:-0400
RDATE:20220313T020000
END:DAYLIGHT
END:VTIMEZONE
BEGIN:VEVENT
UID:396e6d47-1597-46c7-9a88-b6a03cd5025b
DTSTAMP:20260423T073359Z
DESCRIPTION:
DTSTART;TZID=America/New_York:20210519T190000
DTEND;TZID=America/New_York:20210519T203000
LOCATION:
SUMMARY:Young Adult Candle Lighting
END:VEVENT
END:VCALENDAR
