BEGIN:VCALENDAR
VERSION:2.0
PRODID:-//childbereavement.org//NONSGML kigkonsult.se iCalcreator 2.30.10//
CALSCALE:GREGORIAN
METHOD:PUBLISH
UID:3683a087-b109-4c9f-8125-1e9d19c7f2fc
X-WR-CALDESC:
X-WR-RELCALID:de3537cd30dc3e8f9e1a22cd1733ea91
X-WR-TIMEZONE:America/New_York
BEGIN:VTIMEZONE
TZID:America/New_York
BEGIN:STANDARD
TZNAME:EST
DTSTART:20201101T020000
TZOFFSETFROM:-0400
TZOFFSETTO:-0500
RDATE:20211107T020000
RDATE:20221106T020000
END:STANDARD
BEGIN:DAYLIGHT
TZNAME:EDT
DTSTART:20210314T020000
TZOFFSETFROM:-0500
TZOFFSETTO:-0400
RDATE:20220313T020000
END:DAYLIGHT
END:VTIMEZONE
BEGIN:VEVENT
UID:9bc292fe-22db-4d1e-a73f-3a42e19831ed
DTSTAMP:20260423T072237Z
DESCRIPTION:
DTSTART;TZID=America/New_York:20210518T190000
DTEND;TZID=America/New_York:20210518T203000
LOCATION:
SUMMARY:Perinatal Loss Group Candle Lighting
END:VEVENT
END:VCALENDAR
