BEGIN:VCALENDAR
VERSION:2.0
PRODID:-//childbereavement.org//NONSGML kigkonsult.se iCalcreator 2.30.10//
CALSCALE:GREGORIAN
METHOD:PUBLISH
UID:737e0e2c-1c8b-48de-a6ae-2f8832923bd1
X-WR-CALDESC:
X-WR-RELCALID:8599c39d066be5fe1fa4bc614b87cda4
X-WR-TIMEZONE:America/New_York
BEGIN:VTIMEZONE
TZID:America/New_York
BEGIN:STANDARD
TZNAME:EST
DTSTART:20201101T020000
TZOFFSETFROM:-0400
TZOFFSETTO:-0500
RDATE:20211107T020000
RDATE:20221106T020000
END:STANDARD
BEGIN:DAYLIGHT
TZNAME:EDT
DTSTART:20210314T020000
TZOFFSETFROM:-0500
TZOFFSETTO:-0400
RDATE:20220313T020000
END:DAYLIGHT
END:VTIMEZONE
BEGIN:VEVENT
UID:88cad51d-e0cd-47fe-8d52-42b56a1083f3
DTSTAMP:20260423T072328Z
DESCRIPTION:
DTSTART;TZID=America/New_York:20210518T190000
DTEND;TZID=America/New_York:20210518T203000
LOCATION:
SUMMARY:Adult Candle Lighting
END:VEVENT
END:VCALENDAR
