BEGIN:VCALENDAR
VERSION:2.0
PRODID:-//childbereavement.org//NONSGML kigkonsult.se iCalcreator 2.30.10//
CALSCALE:GREGORIAN
METHOD:PUBLISH
UID:eaf16203-85a7-4055-ae5b-6722717f8dba
X-WR-CALDESC:
X-WR-RELCALID:405064586b4a096781dbd319466d9b30
X-WR-TIMEZONE:America/New_York
BEGIN:VTIMEZONE
TZID:America/New_York
BEGIN:STANDARD
TZNAME:EST
DTSTART:20201101T020000
TZOFFSETFROM:-0400
TZOFFSETTO:-0500
RDATE:20211107T020000
RDATE:20221106T020000
END:STANDARD
BEGIN:DAYLIGHT
TZNAME:EDT
DTSTART:20210314T020000
TZOFFSETFROM:-0500
TZOFFSETTO:-0400
RDATE:20220313T020000
END:DAYLIGHT
END:VTIMEZONE
BEGIN:VEVENT
UID:2647b92a-66c8-4dd8-b26a-600846cab19c
DTSTAMP:20260423T072237Z
DESCRIPTION:
DTSTART;TZID=America/New_York:20210517T173000
DTEND;TZID=America/New_York:20210517T190000
LOCATION:
SUMMARY:Elementary Candle Lighting
END:VEVENT
END:VCALENDAR
