BEGIN:VCALENDAR
VERSION:2.0
PRODID:-//childbereavement.org//NONSGML kigkonsult.se iCalcreator 2.30.10//
CALSCALE:GREGORIAN
METHOD:PUBLISH
UID:9f73938c-f10a-42f7-af07-13249ba63564
X-WR-CALDESC:
X-WR-RELCALID:1de270d4dcb942bbace6c22b31e7cba6
X-WR-TIMEZONE:America/New_York
BEGIN:VTIMEZONE
TZID:America/New_York
BEGIN:STANDARD
TZNAME:EST
DTSTART:20261101T020000
TZOFFSETFROM:-0400
TZOFFSETTO:-0500
RDATE:20271107T020000
END:STANDARD
BEGIN:DAYLIGHT
TZNAME:EDT
DTSTART:20260308T020000
TZOFFSETFROM:-0500
TZOFFSETTO:-0400
RDATE:20270314T020000
RDATE:20280312T020000
END:DAYLIGHT
END:VTIMEZONE
BEGIN:VEVENT
UID:110e157b-3846-4f1b-a224-060869c1731c
DTSTAMP:20260422T002023Z
DESCRIPTION:
DTSTART;TZID=America/New_York:20261216T113000
DTEND;TZID=America/New_York:20261216T133000
LOCATION:https://bit.ly/LFLTrainingInstituteForm
SUMMARY:SESSION 4: Self-Care and Personal Trauma Stewardship
END:VEVENT
END:VCALENDAR
