BEGIN:VCALENDAR
VERSION:2.0
PRODID:-//childbereavement.org//NONSGML kigkonsult.se iCalcreator 2.30.10//
CALSCALE:GREGORIAN
METHOD:PUBLISH
UID:3b8ca620-86ef-449e-8006-22b52b34204b
X-WR-CALDESC:
X-WR-RELCALID:63816c12ef9e0d71c7a70317a2ae76f7
X-WR-TIMEZONE:America/New_York
BEGIN:VTIMEZONE
TZID:America/New_York
BEGIN:STANDARD
TZNAME:EST
DTSTART:20261101T020000
TZOFFSETFROM:-0400
TZOFFSETTO:-0500
RDATE:20271107T020000
END:STANDARD
BEGIN:DAYLIGHT
TZNAME:EDT
DTSTART:20260308T020000
TZOFFSETFROM:-0500
TZOFFSETTO:-0400
RDATE:20270314T020000
RDATE:20280312T020000
END:DAYLIGHT
END:VTIMEZONE
BEGIN:VEVENT
UID:e17b170e-dc39-44c8-91a6-77d2a203c165
DTSTAMP:20260422T002319Z
DESCRIPTION:
DTSTART;TZID=America/New_York:20261209T113000
DTEND;TZID=America/New_York:20261209T133000
LOCATION:https://bit.ly/LFLTrainingInstituteForm
SUMMARY:SESSION 3:(For School-Based Staff): School-Specific  Considerations
  When a Student or Staff Member Dies
END:VEVENT
END:VCALENDAR
