BEGIN:VCALENDAR
VERSION:2.0
PRODID:-//childbereavement.org//NONSGML kigkonsult.se iCalcreator 2.30.10//
CALSCALE:GREGORIAN
METHOD:PUBLISH
UID:05558e14-761a-4e91-ac88-a98cae9a624c
X-WR-CALDESC:
X-WR-RELCALID:3c2c4b8459bf1e288fe326a501381f42
X-WR-TIMEZONE:America/New_York
BEGIN:VTIMEZONE
TZID:America/New_York
BEGIN:STANDARD
TZNAME:EST
DTSTART:20261101T020000
TZOFFSETFROM:-0400
TZOFFSETTO:-0500
RDATE:20271107T020000
END:STANDARD
BEGIN:DAYLIGHT
TZNAME:EDT
DTSTART:20260308T020000
TZOFFSETFROM:-0500
TZOFFSETTO:-0400
RDATE:20270314T020000
RDATE:20280312T020000
END:DAYLIGHT
END:VTIMEZONE
BEGIN:VEVENT
UID:5c7a85a2-1c37-48a9-8ce1-ab93f89cd0ab
DTSTAMP:20260421T223653Z
DESCRIPTION:
DTSTART;TZID=America/New_York:20261118T113000
DTEND;TZID=America/New_York:20261118T133000
LOCATION:https://bit.ly/LFLTrainingInstituteForm
SUMMARY:SESSION 2: Spotlight on Traumatic Grief
END:VEVENT
END:VCALENDAR
