BEGIN:VCALENDAR
VERSION:2.0
PRODID:-//childbereavement.org//NONSGML kigkonsult.se iCalcreator 2.30.10//
CALSCALE:GREGORIAN
METHOD:PUBLISH
UID:8e3d30ea-fcfe-44a6-967b-13a650cd614c
X-WR-CALDESC:
X-WR-RELCALID:c2b66dcd960dd7ca114f8a7b961c97b2
X-WR-TIMEZONE:America/New_York
BEGIN:VTIMEZONE
TZID:America/New_York
BEGIN:STANDARD
TZNAME:EST
DTSTART:20251102T020000
TZOFFSETFROM:-0400
TZOFFSETTO:-0500
RDATE:20261101T020000
RDATE:20271107T020000
END:STANDARD
BEGIN:DAYLIGHT
TZNAME:EDT
DTSTART:20260308T020000
TZOFFSETFROM:-0500
TZOFFSETTO:-0400
RDATE:20270314T020000
RDATE:20280312T020000
END:DAYLIGHT
END:VTIMEZONE
BEGIN:VEVENT
UID:803f196b-99ae-4e83-b516-856a8e0593ce
DTSTAMP:20260421T210601Z
DESCRIPTION:
DTSTART;TZID=America/New_York:20261021T113000
DTEND;TZID=America/New_York:20261021T133000
LOCATION:https://bit.ly/LFLTrainingInstituteForm
SUMMARY:SESSION 4: Self-Care and Personal Trauma Stewardship
END:VEVENT
END:VCALENDAR
