BEGIN:VCALENDAR
VERSION:2.0
PRODID:-//childbereavement.org//NONSGML kigkonsult.se iCalcreator 2.30.10//
CALSCALE:GREGORIAN
METHOD:PUBLISH
UID:c681062f-fb7f-471b-a6ae-8e2ed7b13d94
X-WR-CALDESC:
X-WR-RELCALID:f96681bdf33a5889069c0205ab7a971e
X-WR-TIMEZONE:America/New_York
BEGIN:VTIMEZONE
TZID:America/New_York
BEGIN:STANDARD
TZNAME:EST
DTSTART:20251102T020000
TZOFFSETFROM:-0400
TZOFFSETTO:-0500
RDATE:20261101T020000
RDATE:20271107T020000
END:STANDARD
BEGIN:DAYLIGHT
TZNAME:EDT
DTSTART:20260308T020000
TZOFFSETFROM:-0500
TZOFFSETTO:-0400
RDATE:20270314T020000
END:DAYLIGHT
END:VTIMEZONE
BEGIN:VEVENT
UID:da99d777-3a3b-4314-8da8-d22962660efc
DTSTAMP:20260421T192358Z
DESCRIPTION:
DTSTART;TZID=America/New_York:20260902T113000
DTEND;TZID=America/New_York:20260902T133000
LOCATION:https://bit.ly/LFLTrainingInstituteForm
SUMMARY:SESSION 1: What is Grief? And how you can Support Grieving Individu
 als
END:VEVENT
END:VCALENDAR
