BEGIN:VCALENDAR
VERSION:2.0
PRODID:-//childbereavement.org//NONSGML kigkonsult.se iCalcreator 2.30.10//
CALSCALE:GREGORIAN
METHOD:PUBLISH
UID:eddcef24-5485-4962-8cb0-51efe1dc3b9d
X-WR-CALDESC:
X-WR-RELCALID:552a137b6bf42270fea957ee0f592fa7
X-WR-TIMEZONE:America/New_York
BEGIN:VTIMEZONE
TZID:America/New_York
BEGIN:STANDARD
TZNAME:EST
DTSTART:20251102T020000
TZOFFSETFROM:-0400
TZOFFSETTO:-0500
RDATE:20261101T020000
RDATE:20271107T020000
END:STANDARD
BEGIN:DAYLIGHT
TZNAME:EDT
DTSTART:20260308T020000
TZOFFSETFROM:-0500
TZOFFSETTO:-0400
RDATE:20270314T020000
END:DAYLIGHT
END:VTIMEZONE
BEGIN:VEVENT
UID:91750eee-aa00-4c7a-b2e8-8fd404aa8a93
DTSTAMP:20260421T174101Z
DESCRIPTION:
DTSTART;TZID=America/New_York:20260819T113000
DTEND;TZID=America/New_York:20260819T133000
LOCATION:https://bit.ly/LFLTrainingInstituteForm
SUMMARY:SESSION 4: Self-Care and Personal Trauma Stewardship
END:VEVENT
END:VCALENDAR
