BEGIN:VCALENDAR
VERSION:2.0
PRODID:-//childbereavement.org//NONSGML kigkonsult.se iCalcreator 2.30.10//
CALSCALE:GREGORIAN
METHOD:PUBLISH
UID:e99d48ed-9d31-4aa0-8876-38795c45edb9
X-WR-CALDESC:
X-WR-RELCALID:c0c2bc70a93f7e0cbb46707431497a0e
X-WR-TIMEZONE:America/New_York
BEGIN:VTIMEZONE
TZID:America/New_York
BEGIN:STANDARD
TZNAME:EST
DTSTART:20251102T020000
TZOFFSETFROM:-0400
TZOFFSETTO:-0500
RDATE:20261101T020000
RDATE:20271107T020000
END:STANDARD
BEGIN:DAYLIGHT
TZNAME:EDT
DTSTART:20260308T020000
TZOFFSETFROM:-0500
TZOFFSETTO:-0400
RDATE:20270314T020000
END:DAYLIGHT
END:VTIMEZONE
BEGIN:VEVENT
UID:8f8394f1-6689-4673-b36e-0976fdb9c066
DTSTAMP:20260421T174529Z
DESCRIPTION:
DTSTART;TZID=America/New_York:20260805T113000
DTEND;TZID=America/New_York:20260805T133000
LOCATION:https://bit.ly/LFLTrainingInstituteForm
SUMMARY:SESSION 3:(For School-Based Staff): School-Specific  Considerations
  When a Student or Staff Member Dies
END:VEVENT
END:VCALENDAR
