BEGIN:VCALENDAR
VERSION:2.0
PRODID:-//childbereavement.org//NONSGML kigkonsult.se iCalcreator 2.30.10//
CALSCALE:GREGORIAN
METHOD:PUBLISH
UID:735212e0-423f-44d7-bb37-d576f1215e9e
X-WR-CALDESC:
X-WR-RELCALID:694e4f230038c7bd47080c11d2397314
X-WR-TIMEZONE:America/New_York
BEGIN:VTIMEZONE
TZID:America/New_York
BEGIN:STANDARD
TZNAME:EST
DTSTART:20251102T020000
TZOFFSETFROM:-0400
TZOFFSETTO:-0500
RDATE:20261101T020000
RDATE:20271107T020000
END:STANDARD
BEGIN:DAYLIGHT
TZNAME:EDT
DTSTART:20260308T020000
TZOFFSETFROM:-0500
TZOFFSETTO:-0400
RDATE:20270314T020000
END:DAYLIGHT
END:VTIMEZONE
BEGIN:VEVENT
UID:c25460a1-7f7b-4544-9028-8833ecfc441a
DTSTAMP:20260421T155820Z
DESCRIPTION:
DTSTART;TZID=America/New_York:20260722T113000
DTEND;TZID=America/New_York:20260722T133000
LOCATION:https://bit.ly/LFLTrainingInstituteForm
SUMMARY:SESSION 3:(For Community Based Staff): Interventions  and Strategie
 s to Providing Compassionate  Grief Support
END:VEVENT
END:VCALENDAR
