BEGIN:VCALENDAR
VERSION:2.0
PRODID:-//childbereavement.org//NONSGML kigkonsult.se iCalcreator 2.30.10//
CALSCALE:GREGORIAN
METHOD:PUBLISH
UID:7c0a676e-7761-494d-9021-f0520d202130
X-WR-CALDESC:
X-WR-RELCALID:c91ddd4083b7fa4e7bc5e4e1a97c8d46
X-WR-TIMEZONE:America/New_York
BEGIN:VTIMEZONE
TZID:America/New_York
BEGIN:STANDARD
TZNAME:EST
DTSTART:20251102T020000
TZOFFSETFROM:-0400
TZOFFSETTO:-0500
RDATE:20261101T020000
RDATE:20271107T020000
END:STANDARD
BEGIN:DAYLIGHT
TZNAME:EDT
DTSTART:20260308T020000
TZOFFSETFROM:-0500
TZOFFSETTO:-0400
RDATE:20270314T020000
END:DAYLIGHT
END:VTIMEZONE
BEGIN:VEVENT
UID:b1c30b58-7068-40a1-954e-eb02e656485b
DTSTAMP:20260421T160652Z
DESCRIPTION:
DTSTART;TZID=America/New_York:20260715T113000
DTEND;TZID=America/New_York:20260715T133000
LOCATION:https://bit.ly/LFLTrainingInstituteForm
SUMMARY:SESSION 2: Spotlight on Traumatic Grief
END:VEVENT
END:VCALENDAR
