BEGIN:VCALENDAR
VERSION:2.0
PRODID:-//childbereavement.org//NONSGML kigkonsult.se iCalcreator 2.30.10//
CALSCALE:GREGORIAN
METHOD:PUBLISH
UID:a43c6e3d-196a-40a7-a452-f1582e2a8b8c
X-WR-CALDESC:
X-WR-RELCALID:54d4a97687a594c1080010e8a810343a
X-WR-TIMEZONE:America/New_York
BEGIN:VTIMEZONE
TZID:America/New_York
BEGIN:STANDARD
TZNAME:EST
DTSTART:20251102T020000
TZOFFSETFROM:-0400
TZOFFSETTO:-0500
RDATE:20261101T020000
RDATE:20271107T020000
END:STANDARD
BEGIN:DAYLIGHT
TZNAME:EDT
DTSTART:20260308T020000
TZOFFSETFROM:-0500
TZOFFSETTO:-0400
RDATE:20270314T020000
END:DAYLIGHT
END:VTIMEZONE
BEGIN:VEVENT
UID:ab022419-c2e6-4d81-8d91-283cf2fc47cc
DTSTAMP:20260421T161648Z
DESCRIPTION:
DTSTART;TZID=America/New_York:20260708T113000
DTEND;TZID=America/New_York:20260708T133000
LOCATION:https://bit.ly/LFLTrainingInstituteForm
SUMMARY:SESSION 1: What is Grief? And how you can Support Grieving Individu
 als
END:VEVENT
END:VCALENDAR
