BEGIN:VCALENDAR
VERSION:2.0
PRODID:-//childbereavement.org//NONSGML kigkonsult.se iCalcreator 2.30.10//
CALSCALE:GREGORIAN
METHOD:PUBLISH
UID:7f0eb1cb-14dd-4145-856c-7d2036a97d75
X-WR-CALDESC:
X-WR-RELCALID:e6a67e3a872272e15870cbc9d6821dc5
X-WR-TIMEZONE:America/New_York
BEGIN:VTIMEZONE
TZID:America/New_York
BEGIN:STANDARD
TZNAME:EST
DTSTART:20251102T020000
TZOFFSETFROM:-0400
TZOFFSETTO:-0500
RDATE:20261101T020000
RDATE:20271107T020000
END:STANDARD
BEGIN:DAYLIGHT
TZNAME:EDT
DTSTART:20260308T020000
TZOFFSETFROM:-0500
TZOFFSETTO:-0400
RDATE:20270314T020000
END:DAYLIGHT
END:VTIMEZONE
BEGIN:VEVENT
UID:df4d9bae-e00e-442b-ad97-94d7f67cb591
DTSTAMP:20260421T143804Z
DESCRIPTION:
DTSTART;TZID=America/New_York:20260610T113000
DTEND;TZID=America/New_York:20260610T133000
LOCATION:https://bit.ly/LFLTrainingInstituteForm
SUMMARY:SESSION 4: Self-Care and Personal Trauma Stewardship
END:VEVENT
END:VCALENDAR
