BEGIN:VCALENDAR
VERSION:2.0
PRODID:-//childbereavement.org//NONSGML kigkonsult.se iCalcreator 2.30.10//
CALSCALE:GREGORIAN
METHOD:PUBLISH
UID:f8676dd2-d065-42e9-9e2e-7bbc74f6d43d
X-WR-CALDESC:
X-WR-RELCALID:5ba3d9e9f9d464f4b8581ac7cf655dd2
X-WR-TIMEZONE:America/New_York
BEGIN:VTIMEZONE
TZID:America/New_York
BEGIN:STANDARD
TZNAME:EST
DTSTART:20251102T020000
TZOFFSETFROM:-0400
TZOFFSETTO:-0500
RDATE:20261101T020000
RDATE:20271107T020000
END:STANDARD
BEGIN:DAYLIGHT
TZNAME:EDT
DTSTART:20260308T020000
TZOFFSETFROM:-0500
TZOFFSETTO:-0400
RDATE:20270314T020000
END:DAYLIGHT
END:VTIMEZONE
BEGIN:VEVENT
UID:75530725-c758-46c1-9dea-cd7ba8899870
DTSTAMP:20260421T130400Z
DESCRIPTION:
DTSTART;TZID=America/New_York:20260520T113000
DTEND;TZID=America/New_York:20260520T133000
LOCATION:https://bit.ly/LFLTrainingInstituteForm
SUMMARY:SESSION 3:(For Community Based Staff): Interventions  and Strategie
 s to Providing Compassionate  Grief Support
END:VEVENT
END:VCALENDAR
