BEGIN:VCALENDAR
VERSION:2.0
PRODID:-//childbereavement.org//NONSGML kigkonsult.se iCalcreator 2.30.10//
CALSCALE:GREGORIAN
METHOD:PUBLISH
UID:384554e0-0cef-42e4-957e-3169968ece7d
X-WR-CALDESC:
X-WR-RELCALID:6265717d5ebeebf591e8af3822cd2c8b
X-WR-TIMEZONE:America/New_York
BEGIN:VTIMEZONE
TZID:America/New_York
BEGIN:STANDARD
TZNAME:EST
DTSTART:20251102T020000
TZOFFSETFROM:-0400
TZOFFSETTO:-0500
RDATE:20261101T020000
RDATE:20271107T020000
END:STANDARD
BEGIN:DAYLIGHT
TZNAME:EDT
DTSTART:20260308T020000
TZOFFSETFROM:-0500
TZOFFSETTO:-0400
RDATE:20270314T020000
END:DAYLIGHT
END:VTIMEZONE
BEGIN:VEVENT
UID:bb8e3013-771f-4e27-a96e-624e890db43a
DTSTAMP:20260421T131110Z
DESCRIPTION:
DTSTART;TZID=America/New_York:20260513T113000
DTEND;TZID=America/New_York:20260513T133000
LOCATION:https://bit.ly/LFLTrainingInstituteForm
SUMMARY:SESSION 2: Spotlight on Traumatic Grief
END:VEVENT
END:VCALENDAR
