BEGIN:VCALENDAR
VERSION:2.0
PRODID:-//childbereavement.org//NONSGML kigkonsult.se iCalcreator 2.30.10//
CALSCALE:GREGORIAN
METHOD:PUBLISH
UID:9ae98522-2904-4ed8-bdb1-d87d59474bbc
X-WR-CALDESC:
X-WR-RELCALID:9c88083213e099a3245149e65786bf62
X-WR-TIMEZONE:America/New_York
BEGIN:VTIMEZONE
TZID:America/New_York
BEGIN:STANDARD
TZNAME:EST
DTSTART:20251102T020000
TZOFFSETFROM:-0400
TZOFFSETTO:-0500
RDATE:20261101T020000
END:STANDARD
BEGIN:DAYLIGHT
TZNAME:EDT
DTSTART:20260308T020000
TZOFFSETFROM:-0500
TZOFFSETTO:-0400
RDATE:20270314T020000
END:DAYLIGHT
END:VTIMEZONE
BEGIN:VEVENT
UID:93294291-ee0b-4af0-b250-e29bd4d38eb9
DTSTAMP:20260421T125429Z
DESCRIPTION:
DTSTART;TZID=America/New_York:20260506T113000
DTEND;TZID=America/New_York:20260506T133000
LOCATION:https://bit.ly/LFLTrainingInstituteForm
SUMMARY:SESSION 1: What is Grief? And how you can Support Grieving Individu
 als
END:VEVENT
END:VCALENDAR
