BEGIN:VCALENDAR
VERSION:2.0
PRODID:-//childbereavement.org//NONSGML kigkonsult.se iCalcreator 2.30.10//
CALSCALE:GREGORIAN
METHOD:PUBLISH
UID:f85354f4-d3d9-4459-87b1-3fe9236ada14
X-WR-CALDESC:
X-WR-RELCALID:fdb83d90c558e18d38dd9d1962c246d4
X-WR-TIMEZONE:America/New_York
BEGIN:VTIMEZONE
TZID:America/New_York
BEGIN:STANDARD
TZNAME:EST
DTSTART:20251102T020000
TZOFFSETFROM:-0400
TZOFFSETTO:-0500
RDATE:20261101T020000
END:STANDARD
BEGIN:DAYLIGHT
TZNAME:EDT
DTSTART:20260308T020000
TZOFFSETFROM:-0500
TZOFFSETTO:-0400
RDATE:20270314T020000
END:DAYLIGHT
END:VTIMEZONE
BEGIN:VEVENT
UID:bf3ca8ba-69d4-480a-b418-056036ed52c0
DTSTAMP:20260421T113101Z
DESCRIPTION:
DTSTART;TZID=America/New_York:20260401T113000
DTEND;TZID=America/New_York:20260401T133000
LOCATION:https://bit.ly/LFLTrainingInstituteForm
SUMMARY:SESSION 3:(For School-Based Staff): School-Specific  Considerations
  When a Student or Staff Member Dies
END:VEVENT
END:VCALENDAR
