BEGIN:VCALENDAR
VERSION:2.0
PRODID:-//childbereavement.org//NONSGML kigkonsult.se iCalcreator 2.30.10//
CALSCALE:GREGORIAN
METHOD:PUBLISH
UID:46b57014-3dcf-4a82-ba77-95165355d5ab
X-WR-CALDESC:
X-WR-RELCALID:6c34aa09ce88a6ad6d7d0bfb98e60324
X-WR-TIMEZONE:America/New_York
BEGIN:VTIMEZONE
TZID:America/New_York
BEGIN:STANDARD
TZNAME:EST
DTSTART:20251102T020000
TZOFFSETFROM:-0400
TZOFFSETTO:-0500
RDATE:20261101T020000
END:STANDARD
BEGIN:DAYLIGHT
TZNAME:EDT
DTSTART:20260308T020000
TZOFFSETFROM:-0500
TZOFFSETTO:-0400
RDATE:20270314T020000
END:DAYLIGHT
END:VTIMEZONE
BEGIN:VEVENT
UID:afed6b84-7539-421f-8b56-7e056e2dc64b
DTSTAMP:20260421T130400Z
DESCRIPTION:
DTSTART;TZID=America/New_York:20260318T113000
DTEND;TZID=America/New_York:20260318T133000
LOCATION:https://bit.ly/LFLTrainingInstituteForm
SUMMARY:SESSION 3:(For Community Based Staff): Interventions  and Strategie
 s to Providing Compassionate  Grief Support
END:VEVENT
END:VCALENDAR
