BEGIN:VCALENDAR
VERSION:2.0
PRODID:-//childbereavement.org//NONSGML kigkonsult.se iCalcreator 2.30.10//
CALSCALE:GREGORIAN
METHOD:PUBLISH
UID:95ad9ec9-fe5a-4631-9f55-97d419355859
X-WR-CALDESC:
X-WR-RELCALID:96c8cd48cfabd97a526d4ad45eccda93
X-WR-TIMEZONE:America/New_York
BEGIN:VTIMEZONE
TZID:America/New_York
BEGIN:STANDARD
TZNAME:EST
DTSTART:20251102T020000
TZOFFSETFROM:-0400
TZOFFSETTO:-0500
RDATE:20261101T020000
END:STANDARD
BEGIN:DAYLIGHT
TZNAME:EDT
DTSTART:20250309T020000
TZOFFSETFROM:-0500
TZOFFSETTO:-0400
RDATE:20260308T020000
RDATE:20270314T020000
END:DAYLIGHT
END:VTIMEZONE
BEGIN:VEVENT
UID:80e7b24a-5647-4817-a77a-8c32fffbc308
DTSTAMP:20260421T143028Z
DESCRIPTION:
DTSTART;TZID=America/New_York:20260211T113000
DTEND;TZID=America/New_York:20260211T133000
LOCATION:https://bit.ly/LFLTrainingInstituteForm
SUMMARY:SESSION 3:(For School-Based Staff): School-Specific  Considerations
  When a Student or Staff Member Dies
END:VEVENT
END:VCALENDAR
