BEGIN:VCALENDAR
VERSION:2.0
PRODID:-//childbereavement.org//NONSGML kigkonsult.se iCalcreator 2.30.10//
CALSCALE:GREGORIAN
METHOD:PUBLISH
UID:feb2c0bb-b6d9-4cfd-9cce-3ad60f934d36
X-WR-CALDESC:
X-WR-RELCALID:8d028e80c9166e8e6a79f24f41022893
X-WR-TIMEZONE:America/New_York
BEGIN:VTIMEZONE
TZID:America/New_York
BEGIN:STANDARD
TZNAME:EST
DTSTART:20251102T020000
TZOFFSETFROM:-0400
TZOFFSETTO:-0500
RDATE:20261101T020000
END:STANDARD
BEGIN:DAYLIGHT
TZNAME:EDT
DTSTART:20250309T020000
TZOFFSETFROM:-0500
TZOFFSETTO:-0400
RDATE:20260308T020000
RDATE:20270314T020000
END:DAYLIGHT
END:VTIMEZONE
BEGIN:VEVENT
UID:e9b45635-b55a-4364-b78c-350a9f957490
DTSTAMP:20260421T155841Z
DESCRIPTION:
DTSTART;TZID=America/New_York:20260128T113000
DTEND;TZID=America/New_York:20260128T133000
LOCATION:https://bit.ly/LFLTrainingInstituteForm
SUMMARY:SESSION 3:(For Community Based Staff): Interventions  and Strategie
 s to Providing Compassionate  Grief Support
END:VEVENT
END:VCALENDAR
