BEGIN:VCALENDAR
VERSION:2.0
PRODID:-//childbereavement.org//NONSGML kigkonsult.se iCalcreator 2.30.10//
CALSCALE:GREGORIAN
METHOD:PUBLISH
UID:608e8ba3-45f3-484e-b300-e938da30d32b
X-WR-CALDESC:
X-WR-RELCALID:84820a1d9ceb4e62c68aea5f8484b347
X-WR-TIMEZONE:America/New_York
BEGIN:VTIMEZONE
TZID:America/New_York
BEGIN:STANDARD
TZNAME:EST
DTSTART:20251102T020000
TZOFFSETFROM:-0400
TZOFFSETTO:-0500
RDATE:20261101T020000
END:STANDARD
BEGIN:DAYLIGHT
TZNAME:EDT
DTSTART:20250309T020000
TZOFFSETFROM:-0500
TZOFFSETTO:-0400
RDATE:20260308T020000
RDATE:20270314T020000
END:DAYLIGHT
END:VTIMEZONE
BEGIN:VEVENT
UID:5eb008bc-4af5-4dbd-b805-edb52fdb2d97
DTSTAMP:20260421T160653Z
DESCRIPTION:
DTSTART;TZID=America/New_York:20260121T113000
DTEND;TZID=America/New_York:20260121T133000
LOCATION:https://bit.ly/LFLTrainingInstituteForm
SUMMARY:SESSION 2: Spotlight on Traumatic Grief
END:VEVENT
END:VCALENDAR
