BEGIN:VCALENDAR
VERSION:2.0
PRODID:-//childbereavement.org//NONSGML kigkonsult.se iCalcreator 2.30.10//
CALSCALE:GREGORIAN
METHOD:PUBLISH
UID:84d78bb2-67be-4ebd-b143-60f586aceeea
X-WR-CALDESC:
X-WR-RELCALID:6469a2aa31817a06c93b0372f0184ff1
X-WR-TIMEZONE:America/New_York
BEGIN:VTIMEZONE
TZID:America/New_York
BEGIN:STANDARD
TZNAME:EST
DTSTART:20251102T020000
TZOFFSETFROM:-0400
TZOFFSETTO:-0500
RDATE:20261101T020000
END:STANDARD
BEGIN:DAYLIGHT
TZNAME:EDT
DTSTART:20250309T020000
TZOFFSETFROM:-0500
TZOFFSETTO:-0400
RDATE:20260308T020000
RDATE:20270314T020000
END:DAYLIGHT
END:VTIMEZONE
BEGIN:VEVENT
UID:e4781486-ae3a-4fc6-a90e-3b4e160ad508
DTSTAMP:20260421T160002Z
DESCRIPTION:
DTSTART;TZID=America/New_York:20260114T113000
DTEND;TZID=America/New_York:20260114T133000
LOCATION:https://bit.ly/LFLTrainingInstituteForm
SUMMARY:SESSION 1: What is Grief? And how you can Support Grieving Individu
 als
END:VEVENT
END:VCALENDAR
