BEGIN:VCALENDAR
VERSION:2.0
PRODID:-//childbereavement.org//NONSGML kigkonsult.se iCalcreator 2.30.10//
CALSCALE:GREGORIAN
METHOD:PUBLISH
UID:96780ddb-426d-4f6f-9e56-ced29ccb504b
X-WR-CALDESC:
X-WR-RELCALID:c5deb0ed7f3b61a46d20756ac42f5744
X-WR-TIMEZONE:America/New_York
BEGIN:VTIMEZONE
TZID:America/New_York
BEGIN:STANDARD
TZNAME:EST
DTSTART:20251102T020000
TZOFFSETFROM:-0400
TZOFFSETTO:-0500
RDATE:20261101T020000
END:STANDARD
BEGIN:DAYLIGHT
TZNAME:EDT
DTSTART:20250309T020000
TZOFFSETFROM:-0500
TZOFFSETTO:-0400
RDATE:20260308T020000
RDATE:20270314T020000
END:DAYLIGHT
END:VTIMEZONE
BEGIN:VEVENT
UID:e691bb4d-a1aa-457f-a696-487b7519b661
DTSTAMP:20260421T173846Z
DESCRIPTION:
DTSTART;TZID=America/New_York:20251210T113000
DTEND;TZID=America/New_York:20251210T133000
LOCATION:https://bit.ly/LFLTrainingInstituteForm
SUMMARY:SESSION 4: Self-Care and Personal Trauma Stewardship
END:VEVENT
END:VCALENDAR
