BEGIN:VCALENDAR
VERSION:2.0
PRODID:-//childbereavement.org//NONSGML kigkonsult.se iCalcreator 2.30.10//
CALSCALE:GREGORIAN
METHOD:PUBLISH
UID:b9a9e264-5aa1-40fb-bb01-4ff26710db31
X-WR-CALDESC:
X-WR-RELCALID:a72df5aa403ca28690dd3e3c057a696f
X-WR-TIMEZONE:America/New_York
BEGIN:VTIMEZONE
TZID:America/New_York
BEGIN:STANDARD
TZNAME:EST
DTSTART:20251102T020000
TZOFFSETFROM:-0400
TZOFFSETTO:-0500
RDATE:20261101T020000
END:STANDARD
BEGIN:DAYLIGHT
TZNAME:EDT
DTSTART:20250309T020000
TZOFFSETFROM:-0500
TZOFFSETTO:-0400
RDATE:20260308T020000
RDATE:20270314T020000
END:DAYLIGHT
END:VTIMEZONE
BEGIN:VEVENT
UID:b3fc385a-3c9b-4fd3-afd5-9f3c1b45b5e2
DTSTAMP:20260421T173747Z
DESCRIPTION:
DTSTART;TZID=America/New_York:20251203T113000
DTEND;TZID=America/New_York:20251203T133000
LOCATION:https://bit.ly/LFLTrainingInstituteForm
SUMMARY:SESSION 3 (For School-Based Staff): School-Specific Considerations 
 When a Student or Staff Member Dies
END:VEVENT
END:VCALENDAR
