BEGIN:VCALENDAR
VERSION:2.0
PRODID:-//childbereavement.org//NONSGML kigkonsult.se iCalcreator 2.30.10//
CALSCALE:GREGORIAN
METHOD:PUBLISH
UID:d28e51d7-3e97-4e58-9275-6d8fce785e32
X-WR-CALDESC:
X-WR-RELCALID:1b17ad14f974c62de64ec32ada324ca0
X-WR-TIMEZONE:America/New_York
BEGIN:VTIMEZONE
TZID:America/New_York
BEGIN:STANDARD
TZNAME:EST
DTSTART:20251102T020000
TZOFFSETFROM:-0400
TZOFFSETTO:-0500
RDATE:20261101T020000
END:STANDARD
BEGIN:DAYLIGHT
TZNAME:EDT
DTSTART:20250309T020000
TZOFFSETFROM:-0500
TZOFFSETTO:-0400
RDATE:20260308T020000
RDATE:20270314T020000
END:DAYLIGHT
END:VTIMEZONE
BEGIN:VEVENT
UID:a039e11c-87fa-41f0-8729-3eb87d39862d
DTSTAMP:20260421T190856Z
DESCRIPTION:
DTSTART;TZID=America/New_York:20251119T113000
DTEND;TZID=America/New_York:20251119T133000
LOCATION:https://bit.ly/LFLTrainingInstituteForm
SUMMARY:SESSION 3 (For Community Based Staff): Interventions and Strategies
  to Providing Compassionate Grief Support
END:VEVENT
END:VCALENDAR
