BEGIN:VCALENDAR
VERSION:2.0
PRODID:-//childbereavement.org//NONSGML kigkonsult.se iCalcreator 2.30.10//
CALSCALE:GREGORIAN
METHOD:PUBLISH
UID:b36b4f8e-7225-4b12-a286-5c17100d7213
X-WR-CALDESC:
X-WR-RELCALID:82d27a3510efa3e70a15ca198d7f2ca2
X-WR-TIMEZONE:America/New_York
BEGIN:VTIMEZONE
TZID:America/New_York
BEGIN:STANDARD
TZNAME:EST
DTSTART:20241103T020000
TZOFFSETFROM:-0400
TZOFFSETTO:-0500
RDATE:20251102T020000
RDATE:20261101T020000
END:STANDARD
BEGIN:DAYLIGHT
TZNAME:EDT
DTSTART:20250309T020000
TZOFFSETFROM:-0500
TZOFFSETTO:-0400
RDATE:20260308T020000
RDATE:20270314T020000
END:DAYLIGHT
END:VTIMEZONE
BEGIN:VEVENT
UID:4b208862-7bf3-4c5d-9a89-7fd5af6fde2f
DTSTAMP:20260421T211311Z
DESCRIPTION:
DTSTART;TZID=America/New_York:20251015T113000
DTEND;TZID=America/New_York:20251015T133000
LOCATION:https://bit.ly/LFLTrainingInstituteForm
SUMMARY:SESSION 3 (For School-Based Staff): School-Specific Considerations 
 When a Student or Staff Member Dies
END:VEVENT
END:VCALENDAR
