BEGIN:VCALENDAR
VERSION:2.0
PRODID:-//childbereavement.org//NONSGML kigkonsult.se iCalcreator 2.30.10//
CALSCALE:GREGORIAN
METHOD:PUBLISH
UID:b4e07a1e-6f78-4af1-a0b9-2a3ba4180505
X-WR-CALDESC:
X-WR-RELCALID:fb2fedfcd20570d55e3c2740bcad9e11
X-WR-TIMEZONE:America/New_York
BEGIN:VTIMEZONE
TZID:America/New_York
BEGIN:STANDARD
TZNAME:EST
DTSTART:20241103T020000
TZOFFSETFROM:-0400
TZOFFSETTO:-0500
RDATE:20251102T020000
RDATE:20261101T020000
END:STANDARD
BEGIN:DAYLIGHT
TZNAME:EDT
DTSTART:20250309T020000
TZOFFSETFROM:-0500
TZOFFSETTO:-0400
RDATE:20260308T020000
RDATE:20270314T020000
END:DAYLIGHT
END:VTIMEZONE
BEGIN:VEVENT
UID:510a6a16-1082-43ca-a029-665e898af7a4
DTSTAMP:20260421T211036Z
DESCRIPTION:
DTSTART;TZID=America/New_York:20251008T113000
DTEND;TZID=America/New_York:20251008T133000
LOCATION:https://bit.ly/LFLTrainingInstituteForm
SUMMARY:SESSION 3 (For Community Based Staff): Interventions and Strategies
  to Providing Compassionate Grief Support
END:VEVENT
END:VCALENDAR
