BEGIN:VCALENDAR
VERSION:2.0
PRODID:-//childbereavement.org//NONSGML kigkonsult.se iCalcreator 2.30.10//
CALSCALE:GREGORIAN
METHOD:PUBLISH
UID:28a53d08-ac86-4103-8b43-0e53275c22a2
X-WR-CALDESC:
X-WR-RELCALID:d3ff24bb26025913807a51122e17e71f
X-WR-TIMEZONE:America/New_York
BEGIN:VTIMEZONE
TZID:America/New_York
BEGIN:STANDARD
TZNAME:EST
DTSTART:20241103T020000
TZOFFSETFROM:-0400
TZOFFSETTO:-0500
RDATE:20251102T020000
RDATE:20261101T020000
END:STANDARD
BEGIN:DAYLIGHT
TZNAME:EDT
DTSTART:20250309T020000
TZOFFSETFROM:-0500
TZOFFSETTO:-0400
RDATE:20260308T020000
END:DAYLIGHT
END:VTIMEZONE
BEGIN:VEVENT
UID:356ac21d-2b60-4fa0-a220-86a317564da3
DTSTAMP:20260421T225127Z
DESCRIPTION:
DTSTART;TZID=America/New_York:20250910T113000
DTEND;TZID=America/New_York:20250910T133000
LOCATION:https://bit.ly/LFLTrainingInstituteForm
SUMMARY:SESSION 1: What is Grief? And how you can Support Grieving Individu
 als
END:VEVENT
END:VCALENDAR
