BEGIN:VCALENDAR
VERSION:2.0
PRODID:-//childbereavement.org//NONSGML kigkonsult.se iCalcreator 2.30.10//
CALSCALE:GREGORIAN
METHOD:PUBLISH
UID:b79d4ec1-8144-42d2-b66c-2633535486e0
X-WR-CALDESC:
X-WR-RELCALID:365b809604e8f077b5236025735fc672
X-WR-TIMEZONE:America/New_York
BEGIN:VTIMEZONE
TZID:America/New_York
BEGIN:STANDARD
TZNAME:EST
DTSTART:20241103T020000
TZOFFSETFROM:-0400
TZOFFSETTO:-0500
RDATE:20251102T020000
RDATE:20261101T020000
END:STANDARD
BEGIN:DAYLIGHT
TZNAME:EDT
DTSTART:20250309T020000
TZOFFSETFROM:-0500
TZOFFSETTO:-0400
RDATE:20260308T020000
END:DAYLIGHT
END:VTIMEZONE
BEGIN:VEVENT
UID:81c58357-4c29-4cb6-93ac-2dfa6371bd7f
DTSTAMP:20260422T002702Z
DESCRIPTION:
DTSTART;TZID=America/New_York:20250806T113000
DTEND;TZID=America/New_York:20250806T133000
LOCATION:https://bit.ly/LFLTrainingInstituteForm
SUMMARY:SESSION 3 (For School-Based Staff): School-Specific Considerations 
 When a Student or Staff Member Dies
END:VEVENT
END:VCALENDAR
