BEGIN:VCALENDAR
VERSION:2.0
PRODID:-//childbereavement.org//NONSGML kigkonsult.se iCalcreator 2.30.10//
CALSCALE:GREGORIAN
METHOD:PUBLISH
UID:b51dabe0-7257-4cbd-98c0-b2dd1f5c711c
X-WR-CALDESC:
X-WR-RELCALID:1bc2c00b34ccd7f7937d86a63588b7b2
X-WR-TIMEZONE:America/New_York
BEGIN:VTIMEZONE
TZID:America/New_York
BEGIN:STANDARD
TZNAME:EST
DTSTART:20241103T020000
TZOFFSETFROM:-0400
TZOFFSETTO:-0500
RDATE:20251102T020000
RDATE:20261101T020000
END:STANDARD
BEGIN:DAYLIGHT
TZNAME:EDT
DTSTART:20250309T020000
TZOFFSETFROM:-0500
TZOFFSETTO:-0400
RDATE:20260308T020000
END:DAYLIGHT
END:VTIMEZONE
BEGIN:VEVENT
UID:7a08ef7d-fddd-47d7-bfba-3d0c363d6e18
DTSTAMP:20260422T015449Z
DESCRIPTION:
DTSTART;TZID=America/New_York:20250723T113000
DTEND;TZID=America/New_York:20250723T133000
LOCATION:https://bit.ly/LFLTrainingInstituteForm
SUMMARY:SESSION 3 (For Community Based Staff): Interventions and Strategies
  to Providing Compassionate Grief Support
END:VEVENT
END:VCALENDAR
