BEGIN:VCALENDAR
VERSION:2.0
PRODID:-//childbereavement.org//NONSGML kigkonsult.se iCalcreator 2.30.10//
CALSCALE:GREGORIAN
METHOD:PUBLISH
UID:c6e630d4-f835-43d8-bae6-806fd6efa84f
X-WR-CALDESC:
X-WR-RELCALID:8587c7d2c697774a06c59f128f6238db
X-WR-TIMEZONE:America/New_York
BEGIN:VTIMEZONE
TZID:America/New_York
BEGIN:STANDARD
TZNAME:EST
DTSTART:20241103T020000
TZOFFSETFROM:-0400
TZOFFSETTO:-0500
RDATE:20251102T020000
RDATE:20261101T020000
END:STANDARD
BEGIN:DAYLIGHT
TZNAME:EDT
DTSTART:20250309T020000
TZOFFSETFROM:-0500
TZOFFSETTO:-0400
RDATE:20260308T020000
END:DAYLIGHT
END:VTIMEZONE
BEGIN:VEVENT
UID:5c0cf3fd-91ed-4dfc-a5c6-52dd3eadb61c
DTSTAMP:20260422T020646Z
DESCRIPTION:
DTSTART;TZID=America/New_York:20250716T113000
DTEND;TZID=America/New_York:20250716T133000
LOCATION:https://bit.ly/LFLTrainingInstituteForm
SUMMARY:SESSION 2: Spotlight on Traumatic Grief
END:VEVENT
END:VCALENDAR
